BEGIN:VCALENDAR
VERSION:2.0
PRODID:-//Aiken Audubon Society - ECPv6.15.20//NONSGML v1.0//EN
CALSCALE:GREGORIAN
METHOD:PUBLISH
X-WR-CALNAME:Aiken Audubon Society
X-ORIGINAL-URL:https://www.aikenaudubon.com
X-WR-CALDESC:Events for Aiken Audubon Society
REFRESH-INTERVAL;VALUE=DURATION:PT1H
X-Robots-Tag:noindex
X-PUBLISHED-TTL:PT1H
BEGIN:VTIMEZONE
TZID:America/Denver
BEGIN:DAYLIGHT
TZOFFSETFROM:-0700
TZOFFSETTO:-0600
TZNAME:MDT
DTSTART:20240310T090000
END:DAYLIGHT
BEGIN:STANDARD
TZOFFSETFROM:-0600
TZOFFSETTO:-0700
TZNAME:MST
DTSTART:20241103T080000
END:STANDARD
BEGIN:DAYLIGHT
TZOFFSETFROM:-0700
TZOFFSETTO:-0600
TZNAME:MDT
DTSTART:20250309T090000
END:DAYLIGHT
BEGIN:STANDARD
TZOFFSETFROM:-0600
TZOFFSETTO:-0700
TZNAME:MST
DTSTART:20251102T080000
END:STANDARD
BEGIN:DAYLIGHT
TZOFFSETFROM:-0700
TZOFFSETTO:-0600
TZNAME:MDT
DTSTART:20260308T090000
END:DAYLIGHT
BEGIN:STANDARD
TZOFFSETFROM:-0600
TZOFFSETTO:-0700
TZNAME:MST
DTSTART:20261101T080000
END:STANDARD
END:VTIMEZONE
BEGIN:VEVENT
DTSTART;TZID=America/Denver:20250711T183000
DTEND;TZID=America/Denver:20250711T213000
DTSTAMP:20260423T154840
CREATED:20250512T234701Z
LAST-MODIFIED:20250629T133700Z
UID:8741-1752258600-1752269400@www.aikenaudubon.com
SUMMARY:Full for walk & waitlist! Join Professor Brian Linkhart for a Flammulated Owl Event - Friday\, July 11th
DESCRIPTION:This trip is full and so is our waitlist!  We are excited to tell you about an upcoming bird walk on Friday\, July 11th at 630p – Flammulated Owls!\n\nProfessor Brian Linkhart will lead this fantastic tour on behalf of Aiken. This is often good timing for being able to see owlets and maybe even see them access their nests!\nBecause of the popularity of this walk\, we’re offering to our membership first from June 1 through June 15! We will need to cap it at 12 people\, so if you’re interested – mark your calendar for June 1st at 8a and email Melanie Helton at MHELTON016@gmail.com.  Melanie will register the first 12 people that respond.  Each person (email) may only register for 2 people.  After June 15th\, the offering will be open to the general public if there are slots remaining….so register early!\n\nWe will meet at the Manitou Experimental Forest (MEF) and the hike details will be provided to you once you’ve been confirmed.  Please note that we will be hiking in the dark through some rugged terrain and angled slope without headlamps or flashlights.  If this doesn’t excite you\, please don’t register!\nWe kindly request a $25 donation per person\, cash or check made payable to Aiken; 100% supports Dr. Linkhart’s ongoing research.  If you are in need of partial scholarship to cover this donation\, please let me know.\n\nI will be checking-in with the twelve confirmed individuals a few days beforehand to confirm.  Please list your best contact information within the registration request (email and phone number) for each individual.  I will work a waitlist to ensure that we have a full group!\n\nThank you for being a member of Aiken!
URL:https://www.aikenaudubon.com/event/join-professor-brian-linkhart-for-a-flammulated-owl-event-friday-july-11th/
LOCATION:To Be Determined
CATEGORIES:FIELD TRIPS
ATTACH;FMTTYPE=image/jpeg:https://www.aikenaudubon.com/wp-content/uploads/2023/10/flammulated-owls.jpeg
END:VEVENT
BEGIN:VEVENT
DTSTART;TZID=America/Denver:20250719T070000
DTEND;TZID=America/Denver:20250719T110000
DTSTAMP:20260423T154840
CREATED:20250712T033158Z
LAST-MODIFIED:20250712T033303Z
UID:8792-1752908400-1752922800@www.aikenaudubon.com
SUMMARY:Kane Ranch Open Space with Kip Miller
DESCRIPTION:El Paso County’s Kane Ranch Open Space provides a fun location for summer birding with prairie grasslands and a dry creek bed lined with tall cottonwoods.\nWhile it’s getting to be that quiet time in the breeding season\, we’ll hope to find a variety of summer residents still present. We’ll start with a walk out into the open\ngrasslands\, searching for Burrowing Owl\, Sage and Curve-billed Thrashers\, Cassin’s and Lark Sparrows\, Lark Bunting and Dickcissel. We’ll then return to the entrance area and turn our attention to the cottonwoods along the creek bed and the shrubby field adjacent to the parking area\, where we might find three species\nof kingbirds (Eastern\, Western and Cassin’s)\, Bullock’s Oriole\, Lazuli Bunting\, Blue Grosbeak and other breeding and resident species. Total walking distance may be up to three miles round-trip\, but at an easy birding pace on a mostly flat trail. \nKip Miller will lead this outing. Please contact him at kipGmiller@gmail.com to register. Group size limited to 12. Meet at the Kane Ranch Open Space parking lot. (Directions will be provided to all registrants.)
URL:https://www.aikenaudubon.com/event/kane-ranch-open-space-with-kip-miller/
LOCATION:Kane Ranch Open Space
ATTACH;FMTTYPE=image/jpeg:https://www.aikenaudubon.com/wp-content/uploads/2025/07/IMG_5342-scaled.jpg
ORGANIZER;CN="Kip Miller":MAILTO:hlbirdguide@gmail.com
END:VEVENT
BEGIN:VEVENT
DTSTART;TZID=America/Denver:20250720T080000
DTEND;TZID=America/Denver:20250720T120000
DTSTAMP:20260423T154840
CREATED:20250517T165607Z
LAST-MODIFIED:20250719T035244Z
UID:8747-1752998400-1753012800@www.aikenaudubon.com
SUMMARY:Birds & Brews - Rainbow Gulch Trail & BierWerks July 20
DESCRIPTION:Birds & Brews – Rainbow Gulch Trail & BierWerks\nSunday\, July 20\, 8:00 a.m. – 12:00 p.m.\nRainbow Gulch (8am) followed by BierWerks (12pm)\nThis easy/moderate 3.5 mile round trip will take us through the montane forests and briefly along the Rampart Reservoir. Along the way we will look for a great variety of summer birds like Williamson’s\, Red-naped\, and American Three-toed Woodpeckers\, Red Crossbills\, Evening Grosbeaks\, and more. We’ll make sure to look low\, too\, for beautiful blooming wildflowers like Rocky Mountain Columbine and Fireweed! Afterwards we’ll kick up our feet and rehydrate at BierWerks down in Woodland Park.\n– Difficulty: Easy/Moderate. This 3.5 out-and-back has less than 300 feet elevation gain.\n– Bring binoculars and dress for the Woodland Park forecast.\n– Few spots remain! RSVP by emailing trip leader Jessica Miller at jessicaisbirding@gmail.com
URL:https://www.aikenaudubon.com/event/birds-brews-rainbow-gulch-trail-bierwerks-july-20/
LOCATION:Rainbow Gulch
CATEGORIES:FIELD TRIPS
ATTACH;FMTTYPE=image/png:https://www.aikenaudubon.com/wp-content/uploads/2025/05/Screenshot-2025-05-17-at-11.01.27 AM-scaled.png
END:VEVENT
END:VCALENDAR