BEGIN:VCALENDAR
VERSION:2.0
PRODID:-//Aiken Audubon Society - ECPv6.15.20//NONSGML v1.0//EN
CALSCALE:GREGORIAN
METHOD:PUBLISH
X-ORIGINAL-URL:https://www.aikenaudubon.com
X-WR-CALDESC:Events for Aiken Audubon Society
REFRESH-INTERVAL;VALUE=DURATION:PT1H
X-Robots-Tag:noindex
X-PUBLISHED-TTL:PT1H
BEGIN:VTIMEZONE
TZID:America/Denver
BEGIN:DAYLIGHT
TZOFFSETFROM:-0700
TZOFFSETTO:-0600
TZNAME:MDT
DTSTART:20200308T090000
END:DAYLIGHT
BEGIN:STANDARD
TZOFFSETFROM:-0600
TZOFFSETTO:-0700
TZNAME:MST
DTSTART:20201101T080000
END:STANDARD
BEGIN:DAYLIGHT
TZOFFSETFROM:-0700
TZOFFSETTO:-0600
TZNAME:MDT
DTSTART:20210314T090000
END:DAYLIGHT
BEGIN:STANDARD
TZOFFSETFROM:-0600
TZOFFSETTO:-0700
TZNAME:MST
DTSTART:20211107T080000
END:STANDARD
BEGIN:DAYLIGHT
TZOFFSETFROM:-0700
TZOFFSETTO:-0600
TZNAME:MDT
DTSTART:20220313T090000
END:DAYLIGHT
BEGIN:STANDARD
TZOFFSETFROM:-0600
TZOFFSETTO:-0700
TZNAME:MST
DTSTART:20221106T080000
END:STANDARD
END:VTIMEZONE
BEGIN:VEVENT
DTSTART;TZID=America/Denver:20211015T080000
DTEND;TZID=America/Denver:20211015T103000
DTSTAMP:20260421T013320
CREATED:20220115T221333Z
LAST-MODIFIED:20220115T222431Z
UID:5823-1634284800-1634293800@www.aikenaudubon.com
SUMMARY:Beginner Birding Workshop & Hike at Palmer Park
DESCRIPTION:Join us for a morning of birding and Leave No Trace! Representatives from the Aiken Audubon Society and TOPS park staff will share a short presentation in the basics of bird identification followed by hike exploring the trails for birds. This event is intended for people who have never been birding or know very little about birds. It is a free\, family-friendly event\, though our furry relatives should remain at home for this one. \nThis hike is part of the 2021 Leave No Trace Hot Spot Week! For a complete list of the week’s events\, please visit ColoradoSprings.gov/HotSpotWeek. Remember\, you can make an impact by not leaving one! \n\n\nClick here for more details and registration. 
URL:https://www.aikenaudubon.com/event/beginner-birding-workshop-hike-at-palmer-park/
LOCATION:Palmer park\, 3344-3376 Paseo Rd\, Colorado Springs\, CO\, 80909\, United States
CATEGORIES:SPECIAL EVENT
ATTACH;FMTTYPE=image/jpeg:https://www.aikenaudubon.com/wp-content/uploads/2021/09/Palmer-Park.jpg
END:VEVENT
BEGIN:VEVENT
DTSTART;TZID=America/Denver:20211009T070000
DTEND;TZID=America/Denver:20211009T170000
DTSTAMP:20260421T013320
CREATED:20220115T221550Z
LAST-MODIFIED:20220115T221550Z
UID:5826-1633762800-1633798800@www.aikenaudubon.com
SUMMARY:Big Sit! @ Fountain Creek Regional Park
DESCRIPTION:Aiken Audubon will participate in The Big Sit challenge (an international birding event open to anyone) October 9th at Fountain Creek.   We’ll be there from 7a to 12n close to the South Rice Ponds location.  Aiken will have a large white board to record every bird seen or heard\, if positively identified.  A large 60x scope will be shared with masked individuals\, if interested. \nAll observations must be made from within a circle of no more than 17ft in diameter!  We’ll have a roped off area with chairs and snacks – feel free to bring your own chair\, too. It’s a good way to relax while watching birds and enjoying good company. \nIt’s a lot of fun to participate in this international event – please join us for as little or as long as you’d like!  Hope to see you on Saturday!  Any questions\, please email Debra Nord at debra.nord@gmail.com.
URL:https://www.aikenaudubon.com/event/big-sit-fountain-creek-regional-park/
LOCATION:Fountain Creek Regional Park\, 398-386 Peppergrass Ln.\, Fountain\, CO\, 80817\, United States
CATEGORIES:SPECIAL EVENT
ATTACH;FMTTYPE=image/jpeg:https://www.aikenaudubon.com/wp-content/uploads/2021/08/Fountation_Creek_Nature_Center_2-scaled.jpg
ORGANIZER;CN="Debra Nord":MAILTO:debra.nord@gmail.com
END:VEVENT
END:VCALENDAR