BEGIN:VCALENDAR
VERSION:2.0
PRODID:-//Aiken Audubon Society - ECPv6.15.20//NONSGML v1.0//EN
CALSCALE:GREGORIAN
METHOD:PUBLISH
X-ORIGINAL-URL:https://www.aikenaudubon.com
X-WR-CALDESC:Events for Aiken Audubon Society
REFRESH-INTERVAL;VALUE=DURATION:PT1H
X-Robots-Tag:noindex
X-PUBLISHED-TTL:PT1H
BEGIN:VTIMEZONE
TZID:America/Denver
BEGIN:DAYLIGHT
TZOFFSETFROM:-0700
TZOFFSETTO:-0600
TZNAME:MDT
DTSTART:20250309T090000
END:DAYLIGHT
BEGIN:STANDARD
TZOFFSETFROM:-0600
TZOFFSETTO:-0700
TZNAME:MST
DTSTART:20251102T080000
END:STANDARD
BEGIN:DAYLIGHT
TZOFFSETFROM:-0700
TZOFFSETTO:-0600
TZNAME:MDT
DTSTART:20260308T090000
END:DAYLIGHT
BEGIN:STANDARD
TZOFFSETFROM:-0600
TZOFFSETTO:-0700
TZNAME:MST
DTSTART:20261101T080000
END:STANDARD
BEGIN:DAYLIGHT
TZOFFSETFROM:-0700
TZOFFSETTO:-0600
TZNAME:MDT
DTSTART:20270314T090000
END:DAYLIGHT
BEGIN:STANDARD
TZOFFSETFROM:-0600
TZOFFSETTO:-0700
TZNAME:MST
DTSTART:20271107T080000
END:STANDARD
END:VTIMEZONE
BEGIN:VEVENT
DTSTART;TZID=America/Denver:20260318T183000
DTEND;TZID=America/Denver:20260318T210000
DTSTAMP:20260420T151117
CREATED:20260119T153423Z
LAST-MODIFIED:20260307T041557Z
UID:9159-1773858600-1773867600@www.aikenaudubon.com
SUMMARY:March Monthly Meeting:Birding Mongolia with Mike and Gana Endres
DESCRIPTION:Birding in Mongolia \nJoin naturalist\, author\, and professional photographer Mike Endres of Little Wing Photo as he shares his experiences of traveling Mongolia in search of birds\, culture\, and scenery. He will be joined by his wife Gana\, a native of Mongolia\, who will share her personal knowledge of Mongolian culture and history. Five of the fifteen species of cranes can be found in Mongolia\, mostly in the Khurkh River Valley in the eastern part of the country. This will be an entertaining presentation for those interested in this part of the world or maybe planning a trip to there. \nMike has had a decades long interest in wildlife photography\, especially cranes. His lengthy time in the Army has provided him with opportunities that most will never experience. During that time\, he always had a camera in hand and a willingness to explore the wildlife and culture of whatever part of the world he happened to be in. Join him for an evening of entertainment as he shares his experiences from numerous visits to Mongolia\, including his own wedding. \nThis is an in-person meeting held at the Colorado Parks & Wildlife Office; 4255 Sinton Road 80907. Our entrance to the building is located on the EAST side (back side) of the building; not the main entrance. Parking is encouraged in the south and west parking lots. \nIf you would prefer to attend via zoom\, here is the link: \nJoin Zoom Meeting\nhttps://us06web.zoom.us/j/5770180765?pwd=ZaUy7qRz4askuBDWbOkvv3yaxEmdTH.1&omn=85079933786 \n  \nDoors Open: 6:30pm\nMeeting announcements: 7:00pm\nProgram Presentation: 7:15pm \n \nphoto credits:Mike Endres
URL:https://www.aikenaudubon.com/event/march-monthly-meetingbirding-mongolia-with-mike-and-gana-endres/
CATEGORIES:MONTHLY MEETING
ATTACH;FMTTYPE=image/jpeg:https://www.aikenaudubon.com/wp-content/uploads/2026/01/Image-1-19-26-at-8.19-AM.jpeg
END:VEVENT
END:VCALENDAR