BEGIN:VCALENDAR
VERSION:2.0
PRODID:-//Aiken Audubon Society - ECPv6.15.20//NONSGML v1.0//EN
CALSCALE:GREGORIAN
METHOD:PUBLISH
X-ORIGINAL-URL:https://www.aikenaudubon.com
X-WR-CALDESC:Events for Aiken Audubon Society
REFRESH-INTERVAL;VALUE=DURATION:PT1H
X-Robots-Tag:noindex
X-PUBLISHED-TTL:PT1H
BEGIN:VTIMEZONE
TZID:America/Denver
BEGIN:DAYLIGHT
TZOFFSETFROM:-0700
TZOFFSETTO:-0600
TZNAME:MDT
DTSTART:20250309T090000
END:DAYLIGHT
BEGIN:STANDARD
TZOFFSETFROM:-0600
TZOFFSETTO:-0700
TZNAME:MST
DTSTART:20251102T080000
END:STANDARD
BEGIN:DAYLIGHT
TZOFFSETFROM:-0700
TZOFFSETTO:-0600
TZNAME:MDT
DTSTART:20260308T090000
END:DAYLIGHT
BEGIN:STANDARD
TZOFFSETFROM:-0600
TZOFFSETTO:-0700
TZNAME:MST
DTSTART:20261101T080000
END:STANDARD
BEGIN:DAYLIGHT
TZOFFSETFROM:-0700
TZOFFSETTO:-0600
TZNAME:MDT
DTSTART:20270314T090000
END:DAYLIGHT
BEGIN:STANDARD
TZOFFSETFROM:-0600
TZOFFSETTO:-0700
TZNAME:MST
DTSTART:20271107T080000
END:STANDARD
END:VTIMEZONE
BEGIN:VEVENT
DTSTART;TZID=America/Denver:20260121T180000
DTEND;TZID=America/Denver:20260121T210000
DTSTAMP:20260420T235213
CREATED:20251216T211642Z
LAST-MODIFIED:20260122T014554Z
UID:9084-1769018400-1769029200@www.aikenaudubon.com
SUMMARY:JANUARY MONTHLY MEETING:THE EFFECTS OF WILDFIRE SMOKE ON MIGRATING BIRDS
DESCRIPTION:Join Aiken Audubon with Megan Miller presenting her research on The Effects of Wildfire Smoke on Migrating Birds. \nWildfire smoke is an emerging threat to birds at both the individual and population level. Limited studies associate smoke exposure with slower weight gain in House Wren nestlings\, reduced banding capture rates and poorer body condition among those captured birds\, and large-scale avoidance behavior from migrating birds. Megan investigated whether exposure to poor air quality could affect the oxidative balance system in passerines migrating through Southern Colorado during spring and fall migration. \nMegan Miller has been a part of Colorado’s birding community since her first Christmas Bird Count in 2006. She completed a bachelor’s degree in Wildlife Biology in 2017 at Colorado State University and then spent some time doing field work across the country. She has worked on projects studying birds in apple orchards\, seabirds\, black-throated blue warbler ecology\, and migration banding stations. In January 2025 she completed her masters degree at Colorado State University Pueblo on the impact of wildfire smoke on migrating birds. Megan received a grant from Aiken Audubon to help fund this research. \n  \nThis is an in-person meeting held at the Colorado Parks & Wildlife Office; 4255 Sinton Road 80907. Our entrance to the building is located on the EAST side (back side) of the building; not the main entrance. Parking is encouraged in the south and west parking lots. \nSnacks & Bird Talk (meet & mingle) 6:30pm\nMeeting announcements 7:00pm\nProgram Presentation 7:15pm \nJoin us via Zoom: https://us06web.zoom.us/j/5770180765?pwd=ZaUy7qRz4askuBDWbOkvv3yaxEmdTH.1&omn=85079933786 \n\n\n\nMeeting ID: 577 018 0765\n\n\n\n\n\n\n\n\n\n\nPasscode: WESO\n\n\n\n\n\n\n\nPhoto Credit: Megan Miller
URL:https://www.aikenaudubon.com/event/january-monthly-meetingthe-effects-of-wildfire-smoke-on-migrating-birds/
LOCATION:Colorado Parks and Wildlife Office\, 4255 Sinton Rd\, Colorado Springs\, 80907
CATEGORIES:MONTHLY MEETING
ATTACH;FMTTYPE=image/jpeg:https://www.aikenaudubon.com/wp-content/uploads/2025/12/294cff5d-486f-4ff0-9cf6-fb7b024951e2.jpeg
END:VEVENT
END:VCALENDAR