BEGIN:VCALENDAR
VERSION:2.0
PRODID:-//Aiken Audubon Society - ECPv6.15.20//NONSGML v1.0//EN
CALSCALE:GREGORIAN
METHOD:PUBLISH
X-WR-CALNAME:Aiken Audubon Society
X-ORIGINAL-URL:https://www.aikenaudubon.com
X-WR-CALDESC:Events for Aiken Audubon Society
REFRESH-INTERVAL;VALUE=DURATION:PT1H
X-Robots-Tag:noindex
X-PUBLISHED-TTL:PT1H
BEGIN:VTIMEZONE
TZID:America/Denver
BEGIN:DAYLIGHT
TZOFFSETFROM:-0700
TZOFFSETTO:-0600
TZNAME:MDT
DTSTART:20250309T090000
END:DAYLIGHT
BEGIN:STANDARD
TZOFFSETFROM:-0600
TZOFFSETTO:-0700
TZNAME:MST
DTSTART:20251102T080000
END:STANDARD
BEGIN:DAYLIGHT
TZOFFSETFROM:-0700
TZOFFSETTO:-0600
TZNAME:MDT
DTSTART:20260308T090000
END:DAYLIGHT
BEGIN:STANDARD
TZOFFSETFROM:-0600
TZOFFSETTO:-0700
TZNAME:MST
DTSTART:20261101T080000
END:STANDARD
BEGIN:DAYLIGHT
TZOFFSETFROM:-0700
TZOFFSETTO:-0600
TZNAME:MDT
DTSTART:20270314T090000
END:DAYLIGHT
BEGIN:STANDARD
TZOFFSETFROM:-0600
TZOFFSETTO:-0700
TZNAME:MST
DTSTART:20271107T080000
END:STANDARD
END:VTIMEZONE
BEGIN:VEVENT
DTSTART;TZID=America/Denver:20260419T080000
DTEND;TZID=America/Denver:20260419T160000
DTSTAMP:20260420T065411
CREATED:20260312T043236Z
LAST-MODIFIED:20260312T043236Z
UID:9267-1776585600-1776614400@www.aikenaudubon.com
SUMMARY:Dinosaur Ridge Hawk Watch - Aiken Members Only
DESCRIPTION:Visit the Dinosaur Ridge Hawk Watch in Morrison\, CO! This site is a recipient of a Foothills & Prairie Grant in both 2025 & 2026. We will meet to carpool/caravan in Colorado Springs before heading up to Morrison to visit the hawk watchers and see their work in action – counting migrating birds of prey! We’ll stop on the way back to bird South Platte Park a little\, since we’ll be passing right by. \n“Named for its world-renowned fossil beds\, Dinosaur Ridge is also a window into the seasonal movement of birds of prey such as hawks\, eagles\, falcons and more\, over Colorado’s Front Range. These raptors migrate in the spring along the eastern mountainous edge of the Rockies in part because mountain updrafts enable them to soar and conserve energy during their long journeys north to their breeding grounds.” \nWe will meet to carpool/caravan in Colorado Springs at 8am. We will be back at 4pm at the latest. Plan to bring lunch and drinks. Don’t forget your binoculars\, but if you need to borrow some\, mention it with your RSVP. \nThis trip is limited to 13 Aiken members. Any household that has donated any amount to Aiken Audubon Society in the past one year is considered a member. Thank you for supporting Aiken Audubon and our avian conservation and education efforts! To register\, email trip leader Jessica at jessicaisbirding@gmail.com.
URL:https://www.aikenaudubon.com/event/dinosaur-ridge-hawk-watch-aiken-members-only/
CATEGORIES:FIELD TRIPS
ATTACH;FMTTYPE=image/jpeg:https://www.aikenaudubon.com/wp-content/uploads/2023/12/Rough-legged_Hawk_flying.jpg
ORGANIZER;CN="Jessica Miller":MAILTO:jessicaisbirding@gmail.com
END:VEVENT
END:VCALENDAR