BEGIN:VCALENDAR
VERSION:2.0
PRODID:-//Aiken Audubon Society - ECPv6.15.20//NONSGML v1.0//EN
CALSCALE:GREGORIAN
METHOD:PUBLISH
X-WR-CALNAME:Aiken Audubon Society
X-ORIGINAL-URL:https://www.aikenaudubon.com
X-WR-CALDESC:Events for Aiken Audubon Society
REFRESH-INTERVAL;VALUE=DURATION:PT1H
X-Robots-Tag:noindex
X-PUBLISHED-TTL:PT1H
BEGIN:VTIMEZONE
TZID:America/Denver
BEGIN:DAYLIGHT
TZOFFSETFROM:-0700
TZOFFSETTO:-0600
TZNAME:MDT
DTSTART:20230312T090000
END:DAYLIGHT
BEGIN:STANDARD
TZOFFSETFROM:-0600
TZOFFSETTO:-0700
TZNAME:MST
DTSTART:20231105T080000
END:STANDARD
BEGIN:DAYLIGHT
TZOFFSETFROM:-0700
TZOFFSETTO:-0600
TZNAME:MDT
DTSTART:20240310T090000
END:DAYLIGHT
BEGIN:STANDARD
TZOFFSETFROM:-0600
TZOFFSETTO:-0700
TZNAME:MST
DTSTART:20241103T080000
END:STANDARD
BEGIN:DAYLIGHT
TZOFFSETFROM:-0700
TZOFFSETTO:-0600
TZNAME:MDT
DTSTART:20250309T090000
END:DAYLIGHT
BEGIN:STANDARD
TZOFFSETFROM:-0600
TZOFFSETTO:-0700
TZNAME:MST
DTSTART:20251102T080000
END:STANDARD
END:VTIMEZONE
BEGIN:VEVENT
DTSTART;TZID=America/Denver:20241129T063000
DTEND;TZID=America/Denver:20241129T170000
DTSTAMP:20260421T093503
CREATED:20241024T134724Z
LAST-MODIFIED:20241024T134724Z
UID:8430-1732861800-1732899600@www.aikenaudubon.com
SUMMARY:Join DFO\, Aiken and David Suddjian on November 29th - Pueblo area!
DESCRIPTION:Registration opens at 12n on 11/8/24.  You must register on DFObirds.org \nPueblo area\n11/29/2024      6:30 AM – 5:00 PM\nLeader: David Suddjian   dsuddjian@gmail.com or 831-713-8659\nTrip Difficulty: Moderate\nDirections\nMeet at Lowe’s in Castle Rock near the outlet stores. I-25 south\, exit at Founders/Meadows Pkwy (exit 184)\, turn right (west)\, then right on Santa Fe Dr (Hwy 85)\, then right on New Beale St. Exact address 1360 New Beale St\, Castle Rock\, CO 80108\n View Meeting Place on Google Maps\nThis trip is limited to the first 12 registrations. \nHabitats to bird: Developed\, Grassland\, Reservoir\, Riparian\, Scrub\, Wetland\nLet’s head down to Pueblo to peruse likely hotspots at a great time for rare and uncommon migrants. We might see loons\, scoters\, grebes and fun gulls at Lake Pueblo State Park. Other locations such as Pueblo City Park\, and Valco Ponds will add some variety. Bring water\, snacks\, and lunch. Don’t forget sunscreen\, a hat\, your binoculars\, a scope if you have one. If you would like to borrow a pair of binoculars\, let the trip leader know. Bathrooms will be available regularly. Wear good walking shoes\, our trip will be over relatively flat\, easy\, unpaved terrain. Rendezvous options for Colorado Springs and Pueblo areas will be provided. We will begin at Lake Pueblo at 8 am.
URL:https://www.aikenaudubon.com/event/join-dfo-aiken-and-david-suddjian-on-november-29th-pueblo-area/
LOCATION:Pueblo Area
CATEGORIES:FIELD TRIPS
END:VEVENT
END:VCALENDAR