BEGIN:VCALENDAR
VERSION:2.0
PRODID:-//Aiken Audubon Society - ECPv6.15.20//NONSGML v1.0//EN
CALSCALE:GREGORIAN
METHOD:PUBLISH
X-WR-CALNAME:Aiken Audubon Society
X-ORIGINAL-URL:https://www.aikenaudubon.com
X-WR-CALDESC:Events for Aiken Audubon Society
REFRESH-INTERVAL;VALUE=DURATION:PT1H
X-Robots-Tag:noindex
X-PUBLISHED-TTL:PT1H
BEGIN:VTIMEZONE
TZID:America/Denver
BEGIN:DAYLIGHT
TZOFFSETFROM:-0700
TZOFFSETTO:-0600
TZNAME:MDT
DTSTART:20230312T090000
END:DAYLIGHT
BEGIN:STANDARD
TZOFFSETFROM:-0600
TZOFFSETTO:-0700
TZNAME:MST
DTSTART:20231105T080000
END:STANDARD
BEGIN:DAYLIGHT
TZOFFSETFROM:-0700
TZOFFSETTO:-0600
TZNAME:MDT
DTSTART:20240310T090000
END:DAYLIGHT
BEGIN:STANDARD
TZOFFSETFROM:-0600
TZOFFSETTO:-0700
TZNAME:MST
DTSTART:20241103T080000
END:STANDARD
BEGIN:DAYLIGHT
TZOFFSETFROM:-0700
TZOFFSETTO:-0600
TZNAME:MDT
DTSTART:20250309T090000
END:DAYLIGHT
BEGIN:STANDARD
TZOFFSETFROM:-0600
TZOFFSETTO:-0700
TZNAME:MST
DTSTART:20251102T080000
END:STANDARD
END:VTIMEZONE
BEGIN:VEVENT
DTSTART;TZID=America/Denver:20240922T090000
DTEND;TZID=America/Denver:20240922T120000
DTSTAMP:20260421T060344
CREATED:20240807T201342Z
LAST-MODIFIED:20240807T201342Z
UID:8321-1726995600-1727006400@www.aikenaudubon.com
SUMMARY:Birds & Brews - Manitou Lake followed by BierWerks with Jessica Miller
DESCRIPTION:Sunday\, September 22 \nManitou Lake (9am)  followed by BierWerks (12pm)\nManitou Lake is surrounded by evergreen forests\, meadows\, and wetlands formed by beaver dams. The diverse habitat\, flat walking\, and lovely scenery make this a great birding destination\, especially during migration! On our way home we’ll stop by BierWerks Brewery in Woodland Park to enjoy German ales and lagers.\n– Difficulty: Easy/Moderate. This 2 mile hike is along mostly flat\, uneven trails. There’s a lot to see and explore so we’ll be on our feet the whole time.\n– Bring binoculars and dress for the Woodland Park forecast. Lederhosen not necessary.\n– At the entrance\, a $10 fee per vehicle is charged. Option to carpool/caravan from Old Colorado City area at 7:15am.\n– RSVP by emailing trip leader Jessica Miller at jessicaisbirding@gmail.com
URL:https://www.aikenaudubon.com/event/birds-brews-manitou-lake-followed-by-bierwerks-with-jessica-miller/
LOCATION:Manitou Lake CO-67\, CO-67\, Colorado Springs\, 80903\, United States
CATEGORIES:FIELD TRIPS
END:VEVENT
END:VCALENDAR