BEGIN:VCALENDAR
VERSION:2.0
PRODID:-//Aiken Audubon Society - ECPv6.15.20//NONSGML v1.0//EN
CALSCALE:GREGORIAN
METHOD:PUBLISH
X-ORIGINAL-URL:https://www.aikenaudubon.com
X-WR-CALDESC:Events for Aiken Audubon Society
REFRESH-INTERVAL;VALUE=DURATION:PT1H
X-Robots-Tag:noindex
X-PUBLISHED-TTL:PT1H
BEGIN:VTIMEZONE
TZID:America/Denver
BEGIN:DAYLIGHT
TZOFFSETFROM:-0700
TZOFFSETTO:-0600
TZNAME:MDT
DTSTART:20230312T090000
END:DAYLIGHT
BEGIN:STANDARD
TZOFFSETFROM:-0600
TZOFFSETTO:-0700
TZNAME:MST
DTSTART:20231105T080000
END:STANDARD
BEGIN:DAYLIGHT
TZOFFSETFROM:-0700
TZOFFSETTO:-0600
TZNAME:MDT
DTSTART:20240310T090000
END:DAYLIGHT
BEGIN:STANDARD
TZOFFSETFROM:-0600
TZOFFSETTO:-0700
TZNAME:MST
DTSTART:20241103T080000
END:STANDARD
BEGIN:DAYLIGHT
TZOFFSETFROM:-0700
TZOFFSETTO:-0600
TZNAME:MDT
DTSTART:20250309T090000
END:DAYLIGHT
BEGIN:STANDARD
TZOFFSETFROM:-0600
TZOFFSETTO:-0700
TZNAME:MST
DTSTART:20251102T080000
END:STANDARD
END:VTIMEZONE
BEGIN:VEVENT
DTSTART;TZID=America/Denver:20240707T080000
DTEND;TZID=America/Denver:20240707T130000
DTSTAMP:20260421T105407
CREATED:20240414T140401Z
LAST-MODIFIED:20240626T134540Z
UID:8101-1720339200-1720357200@www.aikenaudubon.com
SUMMARY:*WAITLIST* Birds and Brews with Jessica Miller Mueller State Park followed by Paradox Brewing
DESCRIPTION:*Registration for this outing is full at 25 birders. You may email Jessica to join the waitlist.*\n\nJoin Aiken and Jessica Miller on Sunday\, July 7\n\nMueller State Park (8am) followed by Paradox Brewing (12pm)\n– We will hike through the montane forest and meadows and past a couple ponds to find a variety of birds. This will also be a great wildflower walk!\n– This will be a moderate-difficult hike. Our route will take us 4 miles over moderate terrain at a birder’s pace.\n– Bring binoculars and good hiking shoes. Dress for the Divide\, CO forecast. If you need to borrow a pair of binoculars\, let Jessica know when you RSVP.\n– Carpool/caravan option from OCC Safeway (3275 W Colorado Ave) at 7:15am. Keep in mind that unless you have an annual pass\, a $10 vehicle charge will apply at the entrance.\n\n\nRSVP for your spot at jessicaisbirding@gmail.com
URL:https://www.aikenaudubon.com/event/birds-and-brews-with-jessica-miller-mueller-state-park-followed-by-paradox-brewing/
LOCATION:Mueller State Park\, 21045 CO 67\, Divide\, CO\, 80814
CATEGORIES:FIELD TRIPS
ATTACH;FMTTYPE=image/jpeg:https://www.aikenaudubon.com/wp-content/uploads/2022/05/MuellerSP.jpg
END:VEVENT
END:VCALENDAR