BEGIN:VCALENDAR
VERSION:2.0
PRODID:-//Aiken Audubon Society - ECPv6.15.20//NONSGML v1.0//EN
CALSCALE:GREGORIAN
METHOD:PUBLISH
X-WR-CALNAME:Aiken Audubon Society
X-ORIGINAL-URL:https://www.aikenaudubon.com
X-WR-CALDESC:Events for Aiken Audubon Society
REFRESH-INTERVAL;VALUE=DURATION:PT1H
X-Robots-Tag:noindex
X-PUBLISHED-TTL:PT1H
BEGIN:VTIMEZONE
TZID:America/Denver
BEGIN:DAYLIGHT
TZOFFSETFROM:-0700
TZOFFSETTO:-0600
TZNAME:MDT
DTSTART:20230312T090000
END:DAYLIGHT
BEGIN:STANDARD
TZOFFSETFROM:-0600
TZOFFSETTO:-0700
TZNAME:MST
DTSTART:20231105T080000
END:STANDARD
BEGIN:DAYLIGHT
TZOFFSETFROM:-0700
TZOFFSETTO:-0600
TZNAME:MDT
DTSTART:20240310T090000
END:DAYLIGHT
BEGIN:STANDARD
TZOFFSETFROM:-0600
TZOFFSETTO:-0700
TZNAME:MST
DTSTART:20241103T080000
END:STANDARD
BEGIN:DAYLIGHT
TZOFFSETFROM:-0700
TZOFFSETTO:-0600
TZNAME:MDT
DTSTART:20250309T090000
END:DAYLIGHT
BEGIN:STANDARD
TZOFFSETFROM:-0600
TZOFFSETTO:-0700
TZNAME:MST
DTSTART:20251102T080000
END:STANDARD
END:VTIMEZONE
BEGIN:VEVENT
DTSTART;TZID=America/Denver:20240623T090000
DTEND;TZID=America/Denver:20240623T130000
DTSTAMP:20260420T155445
CREATED:20240414T140045Z
LAST-MODIFIED:20240621T132007Z
UID:8095-1719133200-1719147600@www.aikenaudubon.com
SUMMARY:FULL !!  Birds & Brews with Jessica Miller - Pineries Open Space & Black Forest Brewery
DESCRIPTION:This trip is full.  If you’d like to be put on a waitlist\, please email Jessica!\nJoin Aiken and Jessica Miller on Sunday\, June 23\nPineries Open Space (9am) & Black Forest Brewery (12pm)\n\n– We’ll explore the black forest in search of a wide variety of birds with nesting season in full swing. We’ll hope for Bluebirds\, Woodpeckers\, Flycatchers\, and more.\n– This will be a relatively easy hike. We’ll be on relatively flat terrain and may go three miles at a birder’s pace.\n– Bring binoculars\, wear good hiking shoes\, and dress for the Black Forest forecast. If you need to borrow a pair of binoculars\, let Jessica know when you RSVP.\n– Afterwards we’ll head over to Black Forest Brewing\, about 7 minutes away.\n\n\nRSVP for your spot – jessicaisbirding@gmail.com
URL:https://www.aikenaudubon.com/event/birds-brews-with-jessica-miller-pineries-open-space-black-forest-brewery/
LOCATION:Pineries Open Space\, 13201 Vollmer Rd\, Colorado Springs
CATEGORIES:FIELD TRIPS
ATTACH;FMTTYPE=image/png:https://www.aikenaudubon.com/wp-content/uploads/2024/04/Screenshot-2024-04-14-at-7.58.47 AM.png
END:VEVENT
END:VCALENDAR