BEGIN:VCALENDAR
VERSION:2.0
PRODID:-//Aiken Audubon Society - ECPv6.15.20//NONSGML v1.0//EN
CALSCALE:GREGORIAN
METHOD:PUBLISH
X-WR-CALNAME:Aiken Audubon Society
X-ORIGINAL-URL:https://www.aikenaudubon.com
X-WR-CALDESC:Events for Aiken Audubon Society
REFRESH-INTERVAL;VALUE=DURATION:PT1H
X-Robots-Tag:noindex
X-PUBLISHED-TTL:PT1H
BEGIN:VTIMEZONE
TZID:America/Denver
BEGIN:DAYLIGHT
TZOFFSETFROM:-0700
TZOFFSETTO:-0600
TZNAME:MDT
DTSTART:20230312T090000
END:DAYLIGHT
BEGIN:STANDARD
TZOFFSETFROM:-0600
TZOFFSETTO:-0700
TZNAME:MST
DTSTART:20231105T080000
END:STANDARD
BEGIN:DAYLIGHT
TZOFFSETFROM:-0700
TZOFFSETTO:-0600
TZNAME:MDT
DTSTART:20240310T090000
END:DAYLIGHT
BEGIN:STANDARD
TZOFFSETFROM:-0600
TZOFFSETTO:-0700
TZNAME:MST
DTSTART:20241103T080000
END:STANDARD
BEGIN:DAYLIGHT
TZOFFSETFROM:-0700
TZOFFSETTO:-0600
TZNAME:MDT
DTSTART:20250309T090000
END:DAYLIGHT
BEGIN:STANDARD
TZOFFSETFROM:-0600
TZOFFSETTO:-0700
TZNAME:MST
DTSTART:20251102T080000
END:STANDARD
END:VTIMEZONE
BEGIN:VEVENT
DTSTART;TZID=America/Denver:20240601T080000
DTEND;TZID=America/Denver:20240601T140000
DTSTAMP:20260422T041233
CREATED:20240413T143815Z
LAST-MODIFIED:20240413T143815Z
UID:8091-1717228800-1717250400@www.aikenaudubon.com
SUMMARY:Little Grouse Mountain with Diana Beatty on June 1st!
DESCRIPTION:Join Diana Beatty and Aiken for a walk to Little Grouse Mountain on June 1st. \nPlan to meet at the Safeway parking lot on W Colorado and 31st at 8am and we’ll go up to Little Grouse Mountain outside of Victor.  We’ll visit the troll Rita the Rock Planter and bird some of the trail there.  Pack your own snacks/lunch\, and we’ll aim to be back at the Safeway around 1:30- 2 pm. \nCarpooling is heavily encouraged due to parking limitations.  Leashed  good boy/girl dogs will be allowed. \nNo registration is needed.  Trails are rocky and a bit uneven.  Dress for Colorado high altitude weather!
URL:https://www.aikenaudubon.com/event/little-grouse-mountain-with-diana-beatty-on-june-1st/
LOCATION:Little Grouse Mountain\, CO-67\, Colorado 80813
CATEGORIES:FIELD TRIPS
ATTACH;FMTTYPE=image/png:https://www.aikenaudubon.com/wp-content/uploads/2024/04/Screenshot-2024-04-13-at-8.37.01 AM.png
END:VEVENT
END:VCALENDAR