BEGIN:VCALENDAR
VERSION:2.0
PRODID:-//Aiken Audubon Society - ECPv6.15.20//NONSGML v1.0//EN
CALSCALE:GREGORIAN
METHOD:PUBLISH
X-WR-CALNAME:Aiken Audubon Society
X-ORIGINAL-URL:https://www.aikenaudubon.com
X-WR-CALDESC:Events for Aiken Audubon Society
REFRESH-INTERVAL;VALUE=DURATION:PT1H
X-Robots-Tag:noindex
X-PUBLISHED-TTL:PT1H
BEGIN:VTIMEZONE
TZID:America/Denver
BEGIN:DAYLIGHT
TZOFFSETFROM:-0700
TZOFFSETTO:-0600
TZNAME:MDT
DTSTART:20250309T090000
END:DAYLIGHT
BEGIN:STANDARD
TZOFFSETFROM:-0600
TZOFFSETTO:-0700
TZNAME:MST
DTSTART:20251102T080000
END:STANDARD
BEGIN:DAYLIGHT
TZOFFSETFROM:-0700
TZOFFSETTO:-0600
TZNAME:MDT
DTSTART:20260308T090000
END:DAYLIGHT
BEGIN:STANDARD
TZOFFSETFROM:-0600
TZOFFSETTO:-0700
TZNAME:MST
DTSTART:20261101T080000
END:STANDARD
BEGIN:DAYLIGHT
TZOFFSETFROM:-0700
TZOFFSETTO:-0600
TZNAME:MDT
DTSTART:20270314T090000
END:DAYLIGHT
BEGIN:STANDARD
TZOFFSETFROM:-0600
TZOFFSETTO:-0700
TZNAME:MST
DTSTART:20271107T080000
END:STANDARD
END:VTIMEZONE
BEGIN:VEVENT
DTSTART;TZID=America/Denver:20260420T183000
DTEND;TZID=America/Denver:20260420T193000
DTSTAMP:20260420T033033
CREATED:20260417T015918Z
LAST-MODIFIED:20260417T015918Z
UID:9307-1776709800-1776713400@www.aikenaudubon.com
SUMMARY:Free Webinar: Dark Skies Matter
DESCRIPTION:This event is not affiliated with Aiken Audubon\, but you may be interested in this at-home learning opportunity that benefits birds and the rest of our natural world! \nDark Skies Matter\nPresented by Friends of Florissant Fossil Beds\nMonday\, April 20\, 2026 at 6:30 p.m.\nRegister for the Zoom Presentation here: https://us06web.zoom.us/webinar/register/WN_SxjGFtGlRnW5s4mQ1FAdCA#/registration \nThis highly relevant presentation focuses on the importance of preserving Colorado’s Dark Night Skies at the Florissant Fossil Beds National Monument. The webinar highlights the sensational dark skies of the Fossil Beds\, and the increasing threat of light pollution which puts Night Sky Astronomy at risk. The rapid expansion of urban growth into Colorado’s mountain areas is increasing light pollution and encroaching on pristine dark skies in Colorado. This light pollution is disruptive to native Colorado ecological systems\, human health\, public safety\, astronomy\, and energy conservation. The webinar provides 5 simple ways all of us can help reduce light pollution and educate our friends and neighbors on preserving Colorado’s Dark Skies with help from local Colorado organizations. Minimizing light pollution is especially important to maintain the Florissant Fossil Beds National Monument as an International Dark Sky Park\, certified in 2021\, a national treasure in our own back yard! Preserving Dark Skies is one of the greatest gifts we can give to future generations!
URL:https://www.aikenaudubon.com/event/free-webinar-dark-skies-matter/
END:VEVENT
END:VCALENDAR