BEGIN:VCALENDAR
VERSION:2.0
PRODID:-//Aiken Audubon Society - ECPv6.15.20//NONSGML v1.0//EN
CALSCALE:GREGORIAN
METHOD:PUBLISH
X-WR-CALNAME:Aiken Audubon Society
X-ORIGINAL-URL:https://www.aikenaudubon.com
X-WR-CALDESC:Events for Aiken Audubon Society
REFRESH-INTERVAL;VALUE=DURATION:PT1H
X-Robots-Tag:noindex
X-PUBLISHED-TTL:PT1H
BEGIN:VTIMEZONE
TZID:America/Denver
BEGIN:DAYLIGHT
TZOFFSETFROM:-0700
TZOFFSETTO:-0600
TZNAME:MDT
DTSTART:20250309T090000
END:DAYLIGHT
BEGIN:STANDARD
TZOFFSETFROM:-0600
TZOFFSETTO:-0700
TZNAME:MST
DTSTART:20251102T080000
END:STANDARD
BEGIN:DAYLIGHT
TZOFFSETFROM:-0700
TZOFFSETTO:-0600
TZNAME:MDT
DTSTART:20260308T090000
END:DAYLIGHT
BEGIN:STANDARD
TZOFFSETFROM:-0600
TZOFFSETTO:-0700
TZNAME:MST
DTSTART:20261101T080000
END:STANDARD
BEGIN:DAYLIGHT
TZOFFSETFROM:-0700
TZOFFSETTO:-0600
TZNAME:MDT
DTSTART:20270314T090000
END:DAYLIGHT
BEGIN:STANDARD
TZOFFSETFROM:-0600
TZOFFSETTO:-0700
TZNAME:MST
DTSTART:20271107T080000
END:STANDARD
END:VTIMEZONE
BEGIN:VEVENT
DTSTART;TZID=America/Denver:20260320T100000
DTEND;TZID=America/Denver:20260320T113000
DTSTAMP:20260424T041002
CREATED:20260307T033227Z
LAST-MODIFIED:20260307T033350Z
UID:9234-1774000800-1774006200@www.aikenaudubon.com
SUMMARY:Bird Walk and Water Talk Along the Arkansas River
DESCRIPTION:This event is not affiliated with Aiken Audubon\, but you may be interested in this bird activity in Pueblo\, CO. \nFriday\, March 20th – 10:00am-11:30am at the Charles W. Lee Bridge on the Arkansas River \nSpace is limited. $20 per adult. Register at https://pueblofoodproject.org/product/birdwalk/ \nWhether you’re a seasoned birder or a curious nature lover\, this guided bird walk promises a unique opportunity to learn about the birds that thrive along the Arkansas River and how the same vital water source provides the local food we love. Come experience the rich history and ecosystem of the Arkansas River Trail in Pueblo as we peek into its beauty hiding in plain sight. Led by Jolene Collins\, Community Engagement Manager for Palmer Land Conservancy\, and Marla Browne\, board member of Arkansas Valley Audubon Society and passionate birder\, this walk is an experience you won’t want to miss. Also joining us will be Dr. Andrew Dreelin\, Palmer’s Land Stewardship Manager. Andrew studied ornithology at Cornell University and has been obsessed with birds for the past 14 years. Before joining Palmer\, he completed his doctoral research on grassland birds and even worked for eBird. Your $20 ticket (KIDS JOIN FREE!) does double duty: it supports the Pueblo Food Project while sharing information about the water that sustains us all. Space is limited.
URL:https://www.aikenaudubon.com/event/bird-walk-and-water-talk-along-the-arkansas-river/
ATTACH;FMTTYPE=image/png:https://www.aikenaudubon.com/wp-content/uploads/2026/03/22.png
END:VEVENT
END:VCALENDAR