BEGIN:VCALENDAR
VERSION:2.0
PRODID:-//Aiken Audubon Society - ECPv6.15.20//NONSGML v1.0//EN
CALSCALE:GREGORIAN
METHOD:PUBLISH
X-WR-CALNAME:Aiken Audubon Society
X-ORIGINAL-URL:https://www.aikenaudubon.com
X-WR-CALDESC:Events for Aiken Audubon Society
REFRESH-INTERVAL;VALUE=DURATION:PT1H
X-Robots-Tag:noindex
X-PUBLISHED-TTL:PT1H
BEGIN:VTIMEZONE
TZID:America/Denver
BEGIN:DAYLIGHT
TZOFFSETFROM:-0700
TZOFFSETTO:-0600
TZNAME:MDT
DTSTART:20250309T090000
END:DAYLIGHT
BEGIN:STANDARD
TZOFFSETFROM:-0600
TZOFFSETTO:-0700
TZNAME:MST
DTSTART:20251102T080000
END:STANDARD
BEGIN:DAYLIGHT
TZOFFSETFROM:-0700
TZOFFSETTO:-0600
TZNAME:MDT
DTSTART:20260308T090000
END:DAYLIGHT
BEGIN:STANDARD
TZOFFSETFROM:-0600
TZOFFSETTO:-0700
TZNAME:MST
DTSTART:20261101T080000
END:STANDARD
BEGIN:DAYLIGHT
TZOFFSETFROM:-0700
TZOFFSETTO:-0600
TZNAME:MDT
DTSTART:20270314T090000
END:DAYLIGHT
BEGIN:STANDARD
TZOFFSETFROM:-0600
TZOFFSETTO:-0700
TZNAME:MST
DTSTART:20271107T080000
END:STANDARD
END:VTIMEZONE
BEGIN:VEVENT
DTSTART;TZID=America/Denver:20260220T070000
DTEND;TZID=America/Denver:20260220T153000
DTSTAMP:20260424T100443
CREATED:20260113T022950Z
LAST-MODIFIED:20260113T023847Z
UID:9125-1771570800-1771601400@www.aikenaudubon.com
SUMMARY:Rosy-finch Ramble with DFO - Park & Jefferson Counties
DESCRIPTION:Rosy-finch Ramble with DFO: Park & Jefferson Counties\nFriday\, February 20\, 2026\, 7:00 AM – 3:30 PM\nLeader: David Suddjian\nTrip Difficulty: Moderate \nLet’s go on an adventure to the mountains to find Rosy-Finches and other mountain birds. We may find the three species of Rosy-Finch\, and other “mountain finches” that are around\, including Pine Grosbeak\, Evening Grosbeak\, Red Crossbill\, Cassin’s Finch and others. We might also see Canada Jay and Clark’s Nutcracker\, Rough-legged Hawk and other winter montane species. The trip will focus on locations in Jefferson and Park counties. We will carpool from the meeting spot. For those coming from El Paso County\, we will begin birding in Jefferson Co\, so plan to gather at the advertised meeting place in Aspen Park. Bring lunch\, snacks\, and drinks. We will cover a fair amount of ground by car\, but there will be minimal walking. But expect snowy and icy conditions\, cold temperatures and maybe windy conditions when we are out of the cars. We will plan to enter two residences along the way. \nThis trip is limited and registration will open at noon on 1/30/2026. on this webpage: https://dfobirds.org/FieldTrips/Register.aspx?TripID=22298. If you do not already have an account with DFO\, visit https://dfobirds.org/\, click “LOGIN” then click “Create an account” and follow the prompts. \nPhoto: Brown-capped Rosy-Finch / Gene Putney / Audubon Photography Awards
URL:https://www.aikenaudubon.com/event/rosy-finch-ramble-with-dfo-park-jefferson-counties/
CATEGORIES:FIELD TRIPS
ATTACH;FMTTYPE=image/jpeg:https://www.aikenaudubon.com/wp-content/uploads/2026/01/Aud_APA-2015_Brown-capped-Rosy-Finch_277916_Photo-Gene-Putney.jpg
END:VEVENT
END:VCALENDAR