BEGIN:VCALENDAR
VERSION:2.0
PRODID:-//Aiken Audubon Society - ECPv6.15.20//NONSGML v1.0//EN
CALSCALE:GREGORIAN
METHOD:PUBLISH
X-ORIGINAL-URL:https://www.aikenaudubon.com
X-WR-CALDESC:Events for Aiken Audubon Society
REFRESH-INTERVAL;VALUE=DURATION:PT1H
X-Robots-Tag:noindex
X-PUBLISHED-TTL:PT1H
BEGIN:VTIMEZONE
TZID:America/Denver
BEGIN:DAYLIGHT
TZOFFSETFROM:-0700
TZOFFSETTO:-0600
TZNAME:MDT
DTSTART:20250309T090000
END:DAYLIGHT
BEGIN:STANDARD
TZOFFSETFROM:-0600
TZOFFSETTO:-0700
TZNAME:MST
DTSTART:20251102T080000
END:STANDARD
BEGIN:DAYLIGHT
TZOFFSETFROM:-0700
TZOFFSETTO:-0600
TZNAME:MDT
DTSTART:20260308T090000
END:DAYLIGHT
BEGIN:STANDARD
TZOFFSETFROM:-0600
TZOFFSETTO:-0700
TZNAME:MST
DTSTART:20261101T080000
END:STANDARD
BEGIN:DAYLIGHT
TZOFFSETFROM:-0700
TZOFFSETTO:-0600
TZNAME:MDT
DTSTART:20270314T090000
END:DAYLIGHT
BEGIN:STANDARD
TZOFFSETFROM:-0600
TZOFFSETTO:-0700
TZNAME:MST
DTSTART:20271107T080000
END:STANDARD
END:VTIMEZONE
BEGIN:VEVENT
DTSTART;TZID=America/Denver:20260110T083000
DTEND;TZID=America/Denver:20260110T110000
DTSTAMP:20260424T065418
CREATED:20251211T235434Z
LAST-MODIFIED:20251211T235434Z
UID:9068-1768033800-1768042800@www.aikenaudubon.com
SUMMARY:Winter Bird Count at Fountain Creek Regional Park
DESCRIPTION:This event is not affiliated with Aiken Audubon\, but you may be interested in this local bird activity!\n\nSaturday\, January 10\, 8:30 a.m. – 11:00 a.m.\n\nAll levels of birders are invited to help us observe and record the bird species in Fountain Creek Regional Park. Space is limited; please call Fountain Creek Nature Center at 719-520-6754 to sign up. A $5 donation per person recommended.
URL:https://www.aikenaudubon.com/event/winter-bird-count-at-fountain-creek-regional-park/
LOCATION:Fountain Creek Nature Center\, 320 Pepper Grass Lane\, Fountain\, 80817
ATTACH;FMTTYPE=image/jpeg:https://www.aikenaudubon.com/wp-content/uploads/2016/01/virginia-rail_0903s.jpg
ORGANIZER;CN="Fountain Creek Nature Center":MAILTO:jessicamiller@elpasoco.com
END:VEVENT
END:VCALENDAR