BEGIN:VCALENDAR
VERSION:2.0
PRODID:-//Aiken Audubon Society - ECPv6.15.20//NONSGML v1.0//EN
CALSCALE:GREGORIAN
METHOD:PUBLISH
X-WR-CALNAME:Aiken Audubon Society
X-ORIGINAL-URL:https://www.aikenaudubon.com
X-WR-CALDESC:Events for Aiken Audubon Society
REFRESH-INTERVAL;VALUE=DURATION:PT1H
X-Robots-Tag:noindex
X-PUBLISHED-TTL:PT1H
BEGIN:VTIMEZONE
TZID:America/Denver
BEGIN:DAYLIGHT
TZOFFSETFROM:-0700
TZOFFSETTO:-0600
TZNAME:MDT
DTSTART:20240310T090000
END:DAYLIGHT
BEGIN:STANDARD
TZOFFSETFROM:-0600
TZOFFSETTO:-0700
TZNAME:MST
DTSTART:20241103T080000
END:STANDARD
BEGIN:DAYLIGHT
TZOFFSETFROM:-0700
TZOFFSETTO:-0600
TZNAME:MDT
DTSTART:20250309T090000
END:DAYLIGHT
BEGIN:STANDARD
TZOFFSETFROM:-0600
TZOFFSETTO:-0700
TZNAME:MST
DTSTART:20251102T080000
END:STANDARD
BEGIN:DAYLIGHT
TZOFFSETFROM:-0700
TZOFFSETTO:-0600
TZNAME:MDT
DTSTART:20260308T090000
END:DAYLIGHT
BEGIN:STANDARD
TZOFFSETFROM:-0600
TZOFFSETTO:-0700
TZNAME:MST
DTSTART:20261101T080000
END:STANDARD
END:VTIMEZONE
BEGIN:VEVENT
DTSTART;TZID=America/Denver:20250915T063000
DTEND;TZID=America/Denver:20250915T140000
DTSTAMP:20260423T204101
CREATED:20250727T190841Z
LAST-MODIFIED:20250827T131216Z
UID:8823-1757917800-1757944800@www.aikenaudubon.com
SUMMARY:*FULL* Chico Basin Ranch with Denver Field Ornithologists
DESCRIPTION:Chico Basin Ranch with Denver Field Ornithologists (DFO)\nMonday\, September 15\, 2025\, 6:30 AM – 2:00 PM\nLeader: Jessica Miller\nTrip Difficulty: Moderate \nThis trip is ideal for those that have never visited the ranch\, but all levels of birders are welcome. \nVenture out to El Paso County’s #1 eBird hotspot\, Chico Basin Ranch. We will explore the three sites open to birders – The woodlands where Bird Conservancy of the Rockies will be banding birds\, The Headquarters pond\, and Rose’s Pond. During our trip we will venture across county lines to scour vast prairie\, woodlands\, open water\, wetlands\, and riparian areas for a very wide variety of birds\, including wonderful migrants. We will utilize our full allotted time on the Ranch – 7:00 a.m. to 1:00 p.m. Bring snacks\, lunch\, and lots of water. We will be in shade much of the time\, but still plan for sun protection. Porta-potties will be nearby half of the time. Of course\, bring your favorite birding gear like binoculars and a camera. (Don’t have binoculars? No problem – the trip leader can bring you some!) Wear comfortable walking shoes – we may walk 3 miles at a very slow birder’s pace. Our terrain can be uneven but mostly flat. Long pants are recommended. Denver-area participants will meet in Castle Rock to carpool down at 5:30 a.m. Everyone will meet in Fountain\, CO at 6:30 a.m. before heading east to Chico. \nThis trip is limited to 11 participants and registration will open at noon on 9/1/2025 on this webpage: https://dfobirds.org/FieldTrips/UpcomingTrips.aspx. If you do not already have an account with DFO\, visit https://dfobirds.org/\, click “LOGIN” then click “Create Account” and follow the prompts. Closer to the trip\, Jessica will provide the link and password to participants registered through DFO to purchase their ticket to visit the ranch. The ranch access fee is $15 per person. We will need a few drivers to volunteer to drive as carpooling is greatly preferred.
URL:https://www.aikenaudubon.com/event/chico-basin-ranch-with-denver-field-ornithologists/
LOCATION:Chico  Basin Ranch\, 22500 S Peyton Hwy\, Colorado Springs\, CO\, 80928\, United States
CATEGORIES:FIELD TRIPS
ATTACH;FMTTYPE=image/jpeg:https://www.aikenaudubon.com/wp-content/uploads/2025/07/Chico-WIWA-Bander-J.Miller-scaled.jpg
END:VEVENT
END:VCALENDAR