BEGIN:VCALENDAR
VERSION:2.0
PRODID:-//Aiken Audubon Society - ECPv6.15.20//NONSGML v1.0//EN
CALSCALE:GREGORIAN
METHOD:PUBLISH
X-WR-CALNAME:Aiken Audubon Society
X-ORIGINAL-URL:https://www.aikenaudubon.com
X-WR-CALDESC:Events for Aiken Audubon Society
REFRESH-INTERVAL;VALUE=DURATION:PT1H
X-Robots-Tag:noindex
X-PUBLISHED-TTL:PT1H
BEGIN:VTIMEZONE
TZID:America/Denver
BEGIN:DAYLIGHT
TZOFFSETFROM:-0700
TZOFFSETTO:-0600
TZNAME:MDT
DTSTART:20230312T090000
END:DAYLIGHT
BEGIN:STANDARD
TZOFFSETFROM:-0600
TZOFFSETTO:-0700
TZNAME:MST
DTSTART:20231105T080000
END:STANDARD
BEGIN:DAYLIGHT
TZOFFSETFROM:-0700
TZOFFSETTO:-0600
TZNAME:MDT
DTSTART:20240310T090000
END:DAYLIGHT
BEGIN:STANDARD
TZOFFSETFROM:-0600
TZOFFSETTO:-0700
TZNAME:MST
DTSTART:20241103T080000
END:STANDARD
BEGIN:DAYLIGHT
TZOFFSETFROM:-0700
TZOFFSETTO:-0600
TZNAME:MDT
DTSTART:20250309T090000
END:DAYLIGHT
BEGIN:STANDARD
TZOFFSETFROM:-0600
TZOFFSETTO:-0700
TZNAME:MST
DTSTART:20251102T080000
END:STANDARD
END:VTIMEZONE
BEGIN:VEVENT
DTSTART;TZID=America/Denver:20240622T090000
DTEND;TZID=America/Denver:20240622T100000
DTSTAMP:20260425T152601
CREATED:20240524T201850Z
LAST-MODIFIED:20240524T201850Z
UID:8236-1719046800-1719050400@www.aikenaudubon.com
SUMMARY:Join Joe LaFleur for a Wilkerson Pass Bird Walk\, June 22 9a-10a
DESCRIPTION:Join Joe LaFleur for a FREE guided bird walk for about one mile along the interpretive trail.  Meet at the Wilkerson Pass Visitor Center. \nThis interpretive center features many exhibits that retrace 10\,000 years of local history and natural history. Prehistoric peoples who first crossed into South Park to hunt are the earliest known users of Wilkerson Pass. \nDress for CO weather and bring your water and snacks! \nMore questions?  Contact Better Birdwatching – 719 301 8801 or joe@betterbirdwatching.com
URL:https://www.aikenaudubon.com/event/join-joe-lafleur-for-a-wilkerson-pass-bird-walk-june-22-9a-10a/
LOCATION:Wilkerson Pass Visitor Center\, 26696 US-24\, Lake George\, CO 80827
CATEGORIES:FIELD TRIPS
ATTACH;FMTTYPE=image/png:https://www.aikenaudubon.com/wp-content/uploads/2024/05/Screenshot-2024-05-24-at-2.17.15 PM.png
END:VEVENT
BEGIN:VEVENT
DTSTART;TZID=America/Denver:20240622T100000
DTEND;TZID=America/Denver:20240622T120000
DTSTAMP:20260425T152601
CREATED:20240513T162040Z
LAST-MODIFIED:20240513T162040Z
UID:8216-1719050400-1719057600@www.aikenaudubon.com
SUMMARY:Hummingbird Homecoming - offered by Fountain Creek Nature Center
DESCRIPTION:Hummingbird Homecoming   \nSaturday\, June 22\, 10:00 a.m. – 12:00 p.m. \nWith their speed\, grace\, agility\, tiny size\, and love of flowers\, hummingbirds have captured the hearts and imaginations of countless people. Learn about their migrations\, adaptations\, and influence on cultures. You’ll discover our Colorado species and how to invite them to your yards\, plus favorite viewing locations nearby. Recommended ages 10+. \n$5/nonmember\, $4/member. Prepaid registration required at www.elpasocountynaturecenters.com
URL:https://www.aikenaudubon.com/event/hummingbird-homecoming-offered-by-fountain-creek-nature-center/
LOCATION:Fountain Creek Nature Center\, 320 Pepper Grass Lane\, Fountain\, 80817
CATEGORIES:SPECIAL EVENT
END:VEVENT
END:VCALENDAR