BEGIN:VCALENDAR
VERSION:2.0
PRODID:-//Aiken Audubon Society - ECPv6.15.20//NONSGML v1.0//EN
CALSCALE:GREGORIAN
METHOD:PUBLISH
X-WR-CALNAME:Aiken Audubon Society
X-ORIGINAL-URL:https://www.aikenaudubon.com
X-WR-CALDESC:Events for Aiken Audubon Society
REFRESH-INTERVAL;VALUE=DURATION:PT1H
X-Robots-Tag:noindex
X-PUBLISHED-TTL:PT1H
BEGIN:VTIMEZONE
TZID:America/Denver
BEGIN:DAYLIGHT
TZOFFSETFROM:-0700
TZOFFSETTO:-0600
TZNAME:MDT
DTSTART:20230312T090000
END:DAYLIGHT
BEGIN:STANDARD
TZOFFSETFROM:-0600
TZOFFSETTO:-0700
TZNAME:MST
DTSTART:20231105T080000
END:STANDARD
BEGIN:DAYLIGHT
TZOFFSETFROM:-0700
TZOFFSETTO:-0600
TZNAME:MDT
DTSTART:20240310T090000
END:DAYLIGHT
BEGIN:STANDARD
TZOFFSETFROM:-0600
TZOFFSETTO:-0700
TZNAME:MST
DTSTART:20241103T080000
END:STANDARD
BEGIN:DAYLIGHT
TZOFFSETFROM:-0700
TZOFFSETTO:-0600
TZNAME:MDT
DTSTART:20250309T090000
END:DAYLIGHT
BEGIN:STANDARD
TZOFFSETFROM:-0600
TZOFFSETTO:-0700
TZNAME:MST
DTSTART:20251102T080000
END:STANDARD
END:VTIMEZONE
BEGIN:VEVENT
DTSTART;TZID=America/Denver:20240613T180000
DTEND;TZID=America/Denver:20240613T200000
DTSTAMP:20260425T183716
CREATED:20240525T122753Z
LAST-MODIFIED:20240525T122753Z
UID:8241-1718301600-1718308800@www.aikenaudubon.com
SUMMARY:Birding 101 with Aiken Audubon - Register with El Paso Nature Center
DESCRIPTION:Birding 101 with Aiken Audubon \n\n\n\n\n\n\n\nDate: Thur & Sat\, June 13 & 15 \nTime: 6-8pm (Thur) & 8am-12pm (Sat) \nAudience: 18+ \nCost: $10 per person/$8 per member \n  \nMeeting Details\n\n06/13/2024 –06/13/2024\nTime: 6:00 pm – 8:00 pm\nDays: Thu\, Sat\nBear Creek Nature Center\n245 Bear Creek Nature Center\nColorado Springs\, CO\, 80906\n(719)520-6387
URL:https://www.aikenaudubon.com/event/birding-101-with-aiken-audubon-register-with-el-paso-nature-center/
LOCATION:Bear Creek Nature Center\, 245 Bear Creek Rd\, Colorado Springs\, CO\, 80906
CATEGORIES:SPECIAL EVENT
END:VEVENT
END:VCALENDAR